BEGIN:VCALENDAR
VERSION:2.0
PRODID:-//Valley Fusion - ECPv6.15.11//NONSGML v1.0//EN
CALSCALE:GREGORIAN
METHOD:PUBLISH
X-WR-CALNAME:Valley Fusion
X-ORIGINAL-URL:https://valleyfusion570.com
X-WR-CALDESC:Events for Valley Fusion
REFRESH-INTERVAL;VALUE=DURATION:PT1H
X-Robots-Tag:noindex
X-PUBLISHED-TTL:PT1H
BEGIN:VTIMEZONE
TZID:UTC
BEGIN:STANDARD
TZOFFSETFROM:+0000
TZOFFSETTO:+0000
TZNAME:UTC
DTSTART:20240101T000000
END:STANDARD
END:VTIMEZONE
BEGIN:VEVENT
DTSTART;VALUE=DATE:20250401
DTEND;VALUE=DATE:20250702
DTSTAMP:20260421T091839
CREATED:20250128T135038Z
LAST-MODIFIED:20250311T223936Z
UID:391-1743465600-1751414399@valleyfusion570.com
SUMMARY:Taste the Summer: Margarita Tour - 2025
DESCRIPTION:The Taste the Summer: Margartia Tour is a special twist on your normal wine or brew trail. It includes establishments of all kinds – Breweries\, Wineries\, Distilleries\, Restaurants\, Cocktail lounges and more. No two stops along the tour are the same. Each establishment offers something different to passport holders. Free drink\, free tastings\, discounted drinks and food items.\n\nPassport holders have 3 months to complete the tour although completion isn’t a requirement – we extend the time of this tour to allow everyone to take their time\, plan ahead\, and explore at their own pace.\n\nEach purchase of a passport automatically gives you 1 entry in the tour raffle at the end of the tour. If you complete your passport in full\, you will then gain 2 entries. Prizes include gift cards to participating establishments\, gift baskets\, Margaritaville Margartia Maker and accessories\, and more.\n\n\nHow the tour works:\nPurchase your passport to begin the tour!\nPresent your passport at each participating establishment to receive their offering. Each establishment will then stamp your passport upon completion of your time there.\nAt the tours end\, July 1\, 2025\, you will mail your passport or you may drop your completed passport by any participating establishment\, in order to be entered twice into the raffle.\nPassports are: $36 ea.   Purchases done online – limited amounts available at establishments for a CASH ONLY sale\n\nPassport holders will also have the chance to vote for “The Best Taste of Summer” awarding one lucky establishment with that title for the year.\n\nPurpose:\nTo promote tourism and awareness among local businesses across the valley.\nMany passport holders from the past discovered these local establishments solely because they participated in the tour – they otherwise never heard of the place or attended – now they are regular customers.\n\nNotable Dates:\nEstablishment Registration must be completed by: Feb. 7\, 2025\nTour begins: April 1\, 2025  End: July 1\, 2025\n\nGet Your Passport Below: *Please be sure to put your mailing address in the empty field so we can mail you your passport\n\n\n\n\n\n\n\nThree Dog Vino\n129 Hidlay Church Rd.\, Bloomsburg\nThreedogsvino.com\nThurs-Fri: 4p-7p. Sat:12p-7p. Sun: 12p-5p\n\nBenigna’s Creek Vineyard & Winery\n1585 Ridge Rd.\, Klingerstown\nBcwinery.com\nWed-Sat: 11a-5p. Sun: 1p-4p\n\nWhispering Oaks Vineyard\n1306 SR 61 \,Sunbury\nWhisperingoaksvineyardpa.com\nThurs: 5p-8p.  Fri-Sat: 12p-8p. Sun: 1p-4p\n\nAle House Bar & Grill\n147 E. Independence St.\, Shamokin\nAlehousebargrill0141.s4shops.com\nHours:\n\nRCs Bar & Grill\n4547 Red Rock Rd.\, Benton\nRcsbarandgrill.com\nHours:\n\nJack Azz Distilling\, LLC\n48 Kushwa Rd. Spring Glen\nJackazzdistilling.com\nThu: 2p-6p. Fri-Sat: 12p-6p. Sun: 12p-5p\n\nEclipse Craft Brewing Co.\n249 Market St.\, Sunbury\nEclipsecraftbrewing.com\nWed-Thu: 4p-10p. Fri: 4p-11p. Sat: 12p-11p. Sun: 4p-8p\n\nSelin’s Grove Brewing\n121 Market St.\, Selinsgrove\nSelinsgrovebrewing.com.\nWed: 5p-9p. Thu: 4p-9p Fri-Sat: 11a-10p. Sun: 10a-2p\n\nMidtown Bistro\n323 Rear Market St.\, Sunbury\nWed-Sat: 4p-2a\n\nShade Mountain Winery & Vineyard\n16140 Rt. 104 Middleburg\nShademountainwinery.com\nMon-Thu: 10a-5p. Fri: 10a-6p. Sat: 10a-5p. Sun: 12p-5p\n\nDeadman Walking Distillery\, LLC\n204 Montoya Blvd. Bloomsburg\nDeadmanwalkingdistillery.com\nThu-Fri: 6p-9p. Sat: 12p-7p (extended hour frequently)\n\nCoal Region Winery\n516 West Chestnut St. Shamokin\nHrs: Thursday – 3-7 Fri: 1-7 Saturday: 11-7\ncoalregionwinery.com\n\n\nOliver’s Cigars & Spirits\n144 Independence St. Shamokin\, Pa.\nTues: 5p-11p\nWed: 3p-11p\nThurs: 3p-11p\nFri: 1p-11:30p\nSat: 9:30a – 11:30p\nSun: 12p-8p\nhttps://www.facebook.com/Oliversofshamokin\n\nBottleworks\n1139 N. 4th. St. Sunbury\nMon – Sat: 11a-9p\nSun: 11a-7p\nhttps://www.facebook.com/bottleworkspa\n\nFour Friends Winery\n528 Cemetery Hill Rd.\, Montgomery Pa.\nFri & Sat: 11a-6p\nSun: 11a-5p\nhttps://www.facebook.com/fourfriendsvineyardandwinery\n\nPenn’s Tavern\n113 River Rd. PA-147\, Sunbury Pa.\nTues –  Sat: 11a-8p\nSun – 11a – 3p\nhttps://www.facebook.com/pennstavern\n\n\n\nIron Vines Winery\n322 Raspberry Ave. Sunbury\, Pa.\nFri: 4-11\nSat: 1-11\nSun: 1-6\nironvinezwine.com
URL:https://valleyfusion570.com/event/taste-the-summer-margarita-tour-2025/
LOCATION:PA
ATTACH;FMTTYPE=image/jpeg:https://valleyfusion570.com/wp-content/uploads/2025/01/cropped-marg-tour-image.jpg
END:VEVENT
BEGIN:VEVENT
DTSTART;TZID=UTC:20250607T120000
DTEND;TZID=UTC:20250607T223000
DTSTAMP:20260421T091839
CREATED:20250128T135302Z
LAST-MODIFIED:20250303T165314Z
UID:393-1749297600-1749335400@valleyfusion570.com
SUMMARY:Summer Kick Off - 2025
DESCRIPTION:A Valley Fusion in partnership with SBC\, Cup O Code\, Susquehanna River Valley Visitors Bureau\nNoon – 10:30p\nMusic begins at 1pm\nThe Line Up: Ann Kerstetter Band\, KINSEY\, Bird Law\nHeadlining Act: TBA – we are in the process of signing the contract and will announce once completed\nFREE Event\nFood & Beverage Vendors\nFamily Friendly\nBoater access **last year there were over 40 boats anchored to enjoy the show**\n\nDo you want to be a vendor? Fill out the form below to apply.\n2025 Summer Kick Off Food & Beverage Vendor Application – Non-Alcohol\nhttps://docs.google.com/forms/d/e/1FAIpQLSfbAwJKZ4891gzMDsngtFfTettk4eVmdFBU3UJSPuoVMH9tMw/viewform\n\n2025 Summer Kick Off  Crafter/Merchandise Sales:\nhttps://docs.google.com/forms/d/e/1FAIpQLScMMGMaUNmpfh5L7KS4kxnvd1xWUO5OnORY4C9Qe56FpCWfVQ/viewform
URL:https://valleyfusion570.com/event/summer-kick-off-2025/
LOCATION:PA
ATTACH;FMTTYPE=image/jpeg:https://valleyfusion570.com/wp-content/uploads/2025/01/luca-iaconelli-kvBOc0nxNlk-unsplash-scaled.jpg
END:VEVENT
END:VCALENDAR