BEGIN:VCALENDAR
VERSION:2.0
PRODID:-//Valley Fusion - ECPv6.15.11//NONSGML v1.0//EN
CALSCALE:GREGORIAN
METHOD:PUBLISH
X-WR-CALNAME:Valley Fusion
X-ORIGINAL-URL:https://valleyfusion570.com
X-WR-CALDESC:Events for Valley Fusion
REFRESH-INTERVAL;VALUE=DURATION:PT1H
X-Robots-Tag:noindex
X-PUBLISHED-TTL:PT1H
BEGIN:VTIMEZONE
TZID:UTC
BEGIN:STANDARD
TZOFFSETFROM:+0000
TZOFFSETTO:+0000
TZNAME:UTC
DTSTART:20240101T000000
END:STANDARD
END:VTIMEZONE
BEGIN:VEVENT
DTSTART;TZID=UTC:20251214T110000
DTEND;TZID=UTC:20251214T170000
DTSTAMP:20260421T020051
CREATED:20250811T115504Z
LAST-MODIFIED:20251211T135255Z
UID:908-1765710000-1765731600@valleyfusion570.com
SUMMARY:Big Ticket Bingo
DESCRIPTION:🎉 Coming Soon – Big Ticket Bingo is BACK! 🎉Get ready for an unforgettable night of fun\, prizes\, and excitement!📅 Sunday\, December 14th\, 2025 – mark your calendars so you don’t miss it! \n12pm – 5pm (Doors will open at 11am) \n🎯 What’s in store:✨ 20 Regular Games✨ 4 Specials✨ Rip-It Tickets✨ 50/50 Drawings✨ BIG Prizes! \nThat’s plenty of chances to WIN BIG prizes just in time for the holidays! \n🍷 Enjoy delicious food and beverages from Spyglass on the Ridge Restaurant & Winery\, served right to your table. (Food & beverages not included in ticket price) \n💥 This event will sell out fast ! \n💲 $40 per person – includes a booklet of 6 face cards. – Additional cards available for purchase upon entry. \n🎟️ Tickets are on sale now! Purchase yours today at  https://www.zeffy.com/en-US/ticketing/big-ticket-bingo
URL:https://valleyfusion570.com/event/big-ticket-bingo-2/
LOCATION:Spyglass on the Ridge Winery\, 105 Carroll Rd\, Sunbury\, PA\, 17801\, United States
ATTACH;FMTTYPE=image/png:https://valleyfusion570.com/wp-content/uploads/2025/08/Copy-of-Come-and-play-1.png
END:VEVENT
END:VCALENDAR