BEGIN:VCALENDAR
VERSION:2.0
PRODID:-//Valley Fusion - ECPv6.15.11//NONSGML v1.0//EN
CALSCALE:GREGORIAN
METHOD:PUBLISH
X-WR-CALNAME:Valley Fusion
X-ORIGINAL-URL:https://valleyfusion570.com
X-WR-CALDESC:Events for Valley Fusion
REFRESH-INTERVAL;VALUE=DURATION:PT1H
X-Robots-Tag:noindex
X-PUBLISHED-TTL:PT1H
BEGIN:VTIMEZONE
TZID:UTC
BEGIN:STANDARD
TZOFFSETFROM:+0000
TZOFFSETTO:+0000
TZNAME:UTC
DTSTART:20250101T000000
END:STANDARD
END:VTIMEZONE
BEGIN:VEVENT
DTSTART;TZID=UTC:20260613T140000
DTEND;TZID=UTC:20260613T220000
DTSTAMP:20260420T174708
CREATED:20251104T183323Z
LAST-MODIFIED:20260130T174544Z
UID:1040-1781359200-1781388000@valleyfusion570.com
SUMMARY:Fusion Fest
DESCRIPTION:Fusion Fest 2026\n📅 Date: Saturday\, June 13\, 2026🕐 Time: 2:00 PM – 10:00 PM📍 Location: Spyglass Ridge Winery (Backyard)\, Sunbury\, PA🎟️ Tickets: On sale November 1 on our ShowSlinger Ticketing page \nGates Open: 2pm\nMusic begins at 2:45pm\n\nLizard Hamer: 2:45pm – 3:30pm\nAlex Lee Warner Band: 4pm – 5pm\nThe Band Feel: 5:30pm – 6:30pm\nBlacktop Mojo: 7pm to 8:30pm\n\n🌟 About the Event\nGet ready for the first-ever Fusion Fest\, a one-day music festival celebrating live music\, community\, and youth talent.Experience performances from Blacktop Mojo\, The Band Feel\, and local favorites Lizard Hammer\, plus more artists to be announced soon. \nFusion Fest is all about uplifting emerging artists and giving young local musicians a chance to perform on a professional stage with full lights\, sound\, and an enthusiastic crowd. It’s a day of unforgettable performances that unite our Valley through music. \n\n💖 Giving Back\nA portion of all proceeds supports local youth music programs and school arts initiatives\, helping nurture the next generation of musicians.Students interested in the music industry can also get involved behind the scenes\, job shadowing in stage setup\, lighting\, sound\, and photography. \n\n🎸 Festival Highlights\n\n\nLive performances from national & local acts \n\n\nYouth artist showcases on a professional stage \n\n\nFamily-friendly activities and community vendors \n\n\nDelicious local food and drink options \n\n\nCraft vendors & kids’ area \n\n\nAll-ages event (please note: loud music and alcohol on site) \n\n\n\n🎟️ Tickets\nTickets go on sale November 1st!Purchase through our ShowSlinger page. \nTent and RV campsites are available as add-ons — make it a weekend to remember! \n\n🪑 What to Bring\n\n\nLawn chairs or blankets (festival-style seating) \n\n\nSunscreen\, smiles\, and good vibes! \n\n\n\n🚗 Parking\nParking is available in and around the venue. Please follow posted signs and attendants for directions. \n\n🎵 Let’s Make History\nJoin us for a day of music\, community\, and celebration at Fusion Fest 2026 — where local youth share the stage with national artists and our community comes together to rock for a great cause.
URL:https://valleyfusion570.com/event/fusion-fest/
LOCATION:Spyglass on the Ridge Winery\, 105 Carroll Rd\, Sunbury\, PA\, 17801\, United States
ATTACH;FMTTYPE=image/png:https://valleyfusion570.com/wp-content/uploads/2025/11/fusion-fest.png
END:VEVENT
END:VCALENDAR