BEGIN:VCALENDAR
VERSION:2.0
PRODID:-//Valley Fusion - ECPv6.15.11//NONSGML v1.0//EN
CALSCALE:GREGORIAN
METHOD:PUBLISH
X-WR-CALNAME:Valley Fusion
X-ORIGINAL-URL:https://valleyfusion570.com
X-WR-CALDESC:Events for Valley Fusion
REFRESH-INTERVAL;VALUE=DURATION:PT1H
X-Robots-Tag:noindex
X-PUBLISHED-TTL:PT1H
BEGIN:VTIMEZONE
TZID:UTC
BEGIN:STANDARD
TZOFFSETFROM:+0000
TZOFFSETTO:+0000
TZNAME:UTC
DTSTART:20240101T000000
END:STANDARD
END:VTIMEZONE
BEGIN:VEVENT
DTSTART;TZID=UTC:20250317T110000
DTEND;TZID=UTC:20250317T210000
DTSTAMP:20260421T132238
CREATED:20250311T233907Z
LAST-MODIFIED:20250311T234439Z
UID:847-1742209200-1742245200@valleyfusion570.com
SUMMARY:Selin’s Grove Brewing Co. Saint Patrick’s Day Smash ‘n’ Bash
DESCRIPTION:Join Selin’s Grove Brewing Co. for Saint Patrick’s Day Smash ‘n’ Bash\, on Monday\, March 17th\, 2025. \nThis is a family friendly event so bring the kiddos to enjoy an assortment of games and activities. \nBeginning at 11am till 3pm\, head on over to the Brewery and grab yourself a delicious lunch from We Be Cheesin food truck. \n94.1KX will be Live and on Location from 1pm – 3pm\, to get everyone ready for a Charity Car Smash which will begin at 3pm. A portion of the proceeds will benefit Geisinger Janet Wise Children’s Hospital. \nAnn Kerstetter Band will take the stage 5p – 7p! \nSelin’s Grove Brewery will be open for beverages only from 11a-3p. The restaurant will open fully from 3p to close with a limited menu but plenty of great food and beverage specials!
URL:https://valleyfusion570.com/event/selins-grove-brewing-co-saint-patricks-day-smash-n-bash/
LOCATION:Selin’s Grove Brewing Co.\, 121 N Market St.\, Selinsgrove\, PA\, 17870\, United States
ATTACH;FMTTYPE=image/png:https://valleyfusion570.com/wp-content/uploads/2025/03/selins-grove-patty-day-party-.png
END:VEVENT
END:VCALENDAR