BEGIN:VCALENDAR
VERSION:2.0
PRODID:-//Valley Fusion - ECPv6.15.11//NONSGML v1.0//EN
CALSCALE:GREGORIAN
METHOD:PUBLISH
X-WR-CALNAME:Valley Fusion
X-ORIGINAL-URL:https://valleyfusion570.com
X-WR-CALDESC:Events for Valley Fusion
REFRESH-INTERVAL;VALUE=DURATION:PT1H
X-Robots-Tag:noindex
X-PUBLISHED-TTL:PT1H
BEGIN:VTIMEZONE
TZID:UTC
BEGIN:STANDARD
TZOFFSETFROM:+0000
TZOFFSETTO:+0000
TZNAME:UTC
DTSTART:20240101T000000
END:STANDARD
END:VTIMEZONE
BEGIN:VEVENT
DTSTART;TZID=UTC:20251108T120000
DTEND;TZID=UTC:20251108T170000
DTSTAMP:20260421T002613
CREATED:20250804T180015Z
LAST-MODIFIED:20250907T225949Z
UID:884-1762603200-1762621200@valleyfusion570.com
SUMMARY:Flannel Fest 25'
DESCRIPTION:Flannel Fest – November 8th\, 2025Break out your coziest plaid and join us at Whispering Oaks Vineyard in Sunbury\, PA for Flannel Fest—a day of fall fun\, live music\, food\, drinks\, and local vendors! 🎶🍷🍁 \nAre you a vendor interested in setting up at this exciting event? Fill out the Vendor Registration Form linked below and be part of the flannel-filled fun! \nCLICK HERE FOR THE VENDOR REGISTRATION FORM \nVENDORS – SELECT AND RESERVE YOUR SPACE HERE \n✨ Artisan Vendor Lineup ✨Discover unique\, handcrafted goods and local talent from an incredible group of vendors: \n\n\nBreezy Hollow Bees\, LLC \n\n\nMomma T Creations \n\n\nOnyx & Ivory Handmade \n\n\nLindie Lloyd Art \n\n\nSawdust & Shenanigans \n\n\nPennyhill Creations \n\n\nThe Sparkle Spot Glitter Tattoos by Melissa \n\n\nPicket Fence Primitives \n\n\nYokiDoki \n\n\nHoliday Magic \n\n\nDriftwood & Sage Artisan Soap \n\n\nWeeping Willow Designs \n\n\nSee It Made \n\n\nRough Collie Co. Pet Boutique \n\n\nSoothing Suds by Steph \n\nSusan’s Sew Simple\n\n…and more to explore! \n\n\n🎶 Music Lineup 🎶✨ Jeff Jam✨ Flannel Covers
URL:https://valleyfusion570.com/event/flannel-fest-25/
LOCATION:Whispering Oaks Vineyard\, 1306 State Route 61\, Sunbury\, PA\, 17801\, United States
ATTACH;FMTTYPE=image/png:https://valleyfusion570.com/wp-content/uploads/2025/08/Copy-of-Vendors-wanted.png
END:VEVENT
END:VCALENDAR